BEGIN:VCALENDAR
VERSION:2.0
PRODID:-//Muhadinkishev - ECPv5.6.0//NONSGML v1.0//EN
CALSCALE:GREGORIAN
METHOD:PUBLISH
X-WR-CALNAME:Muhadinkishev
X-ORIGINAL-URL:https://muhadinkishev.com/en
X-WR-CALDESC:Events for Muhadinkishev
BEGIN:VTIMEZONE
TZID:Europe/Moscow
BEGIN:STANDARD
TZOFFSETFROM:+0300
TZOFFSETTO:+0300
TZNAME:MSK
DTSTART:20200101T000000
END:STANDARD
END:VTIMEZONE
BEGIN:VEVENT
DTSTART;VALUE=DATE:20200310
DTEND;VALUE=DATE:20200313
DTSTAMP:20260423T023701
CREATED:20200211T090412Z
LAST-MODIFIED:20200302T124047Z
UID:17315-1583798400-1584057599@muhadinkishev.com
SUMMARY:Friendship of the Peoples of the World “The Pearl of Russia in the Caucasus”
DESCRIPTION:Event 10th – 12th March 2020 Paris \nFriendship of the Peoples of the World “The Pearl of Russia in the Caucasus” with a Round Table at UNESCO as well as an exhibition dedicated to the Circassians at The Russian Orthodox Spiritual and Cultural Centre in Paris.
URL:https://muhadinkishev.com/en/event/druzhba-narodov-mira-kavkaz-zhemchuzhina-rossii-v-parizhe/
CATEGORIES:Exhibitions
END:VEVENT
END:VCALENDAR