BEGIN:VCALENDAR
VERSION:2.0
PRODID:-//Muhadinkishev - ECPv5.6.0//NONSGML v1.0//EN
CALSCALE:GREGORIAN
METHOD:PUBLISH
X-WR-CALNAME:Muhadinkishev
X-ORIGINAL-URL:https://muhadinkishev.com/en
X-WR-CALDESC:Events for Muhadinkishev
BEGIN:VTIMEZONE
TZID:Europe/Moscow
BEGIN:STANDARD
TZOFFSETFROM:+0300
TZOFFSETTO:+0300
TZNAME:MSK
DTSTART:20150101T000000
END:STANDARD
END:VTIMEZONE
BEGIN:VEVENT
DTSTART;TZID=Europe/Moscow:20151204T170000
DTEND;TZID=Europe/Moscow:20151220T200000
DTSTAMP:20260423T021539
CREATED:20191024T120646Z
LAST-MODIFIED:20191024T134352Z
UID:15472-1449248400-1450641600@muhadinkishev.com
SUMMARY:"A hymn to beauty" jubilee exhibition
DESCRIPTION:In this exhibition to celebtrate Muhadin’s 75th\, over 200 of his latest paintings will be on show including many of his favourite series.
URL:https://muhadinkishev.com/en/event/jubilejnaja-vystavka-muhadina-kisheva-gimn-krasote/
LOCATION:The central house of the artist\, The central house of the artist\, room 17\, 2nd floor\, Moscow\, Russian Federation
CATEGORIES:Exhibitions
END:VEVENT
END:VCALENDAR