BEGIN:VCALENDAR
VERSION:2.0
PRODID:-//Muhadinkishev - ECPv5.6.0//NONSGML v1.0//EN
CALSCALE:GREGORIAN
METHOD:PUBLISH
X-WR-CALNAME:Muhadinkishev
X-ORIGINAL-URL:https://muhadinkishev.com/en
X-WR-CALDESC:Events for Muhadinkishev
BEGIN:VTIMEZONE
TZID:Europe/Moscow
BEGIN:STANDARD
TZOFFSETFROM:+0300
TZOFFSETTO:+0300
TZNAME:MSK
DTSTART:20200101T000000
END:STANDARD
END:VTIMEZONE
BEGIN:VEVENT
DTSTART;VALUE=DATE:20200515
DTEND;VALUE=DATE:20200530
DTSTAMP:20260423T022603
CREATED:20200211T090837Z
LAST-MODIFIED:20200227T091731Z
UID:17322-1589500800-1590796799@muhadinkishev.com
SUMMARY:“MUHADIN KSHEV – A JOURNEY BETWEEN COLOUR AND LIGHT”
DESCRIPTION:Exhibition of paintings in Barbate\, Cadiz\, Andalusia \n15th -29th May 2020 \n“MUHADIN KSHEV – A JOURNEY BETWEEN COLOUR AND LIGHT”
URL:https://muhadinkishev.com/en/event/muhadin-kishev-puteshestvie-mezhdu-svetom-i-cvetom/
CATEGORIES:Exhibitions
END:VEVENT
END:VCALENDAR