BEGIN:VCALENDAR
VERSION:2.0
PRODID:-//Muhadinkishev - ECPv5.6.0//NONSGML v1.0//EN
CALSCALE:GREGORIAN
METHOD:PUBLISH
X-WR-CALNAME:Muhadinkishev
X-ORIGINAL-URL:https://muhadinkishev.com/en
X-WR-CALDESC:Events for Muhadinkishev
BEGIN:VTIMEZONE
TZID:Europe/Moscow
BEGIN:STANDARD
TZOFFSETFROM:+0300
TZOFFSETTO:+0300
TZNAME:MSK
DTSTART:20150101T000000
END:STANDARD
END:VTIMEZONE
BEGIN:VEVENT
DTSTART;TZID=Europe/Moscow:20150109T190000
DTEND;TZID=Europe/Moscow:20150201T190000
DTSTAMP:20260423T021239
CREATED:20191024T135702Z
LAST-MODIFIED:20191024T135828Z
UID:15493-1420830000-1422817200@muhadinkishev.com
SUMMARY:A hymn to beauty exhibition
DESCRIPTION:In this exhibition of some 50 paintings Muhadin shares with us works that speak of the beauty of Andalusia\, Russia and the Caucasus where he was born.
URL:https://muhadinkishev.com/en/event/un-canto-a-la-belleza/
LOCATION:The English cut callao\, Space of the arts\, entrance from calle carmen. 7th floor\, Madrid\, Russian Federation
END:VEVENT
END:VCALENDAR