BEGIN:VCALENDAR
VERSION:2.0
PRODID:-//Muhadinkishev - ECPv5.6.0//NONSGML v1.0//EN
CALSCALE:GREGORIAN
METHOD:PUBLISH
X-WR-CALNAME:Muhadinkishev
X-ORIGINAL-URL:https://muhadinkishev.com/es
X-WR-CALDESC:Eventos para Muhadinkishev
BEGIN:VTIMEZONE
TZID:Europe/Moscow
BEGIN:STANDARD
TZOFFSETFROM:+0300
TZOFFSETTO:+0300
TZNAME:MSK
DTSTART:20190101T000000
END:STANDARD
END:VTIMEZONE
BEGIN:VEVENT
DTSTART;VALUE=DATE:20191104
DTEND;VALUE=DATE:20191111
DTSTAMP:20260423T040021
CREATED:20200124T082413Z
LAST-MODIFIED:20200124T084211Z
UID:16999-1572825600-1573430399@muhadinkishev.com
SUMMARY:"Primavera de Chegem" El Festival de Arte en nombre de Muhadin Kishev
DESCRIPTION:Los eventos del Festival se dividirán entre Nalchik y Chegem. La inauguración oficial tendrá lugar el 4 de noviembre en el centro Cultural «El Acropol» con una exposición de pintura de niños jóvenes «Primavera de talento». El objetivo del Festival es alentar y
URL:https://muhadinkishev.com/es/event/art-festival-imeni-muhadina-kisheva-chegemskij-rodnik/
LOCATION:El centro Cultural «El Acropol»\, ул. Байсултанова\, 39\, Нальчик\, Кабардино-Балкарская Республика\, 360017\, Российская Федерация
CATEGORIES:Exposiciones
END:VEVENT
END:VCALENDAR