BEGIN:VCALENDAR
VERSION:2.0
PRODID:-//Muhadinkishev - ECPv5.6.0//NONSGML v1.0//EN
CALSCALE:GREGORIAN
METHOD:PUBLISH
X-WR-CALNAME:Muhadinkishev
X-ORIGINAL-URL:https://muhadinkishev.com/es
X-WR-CALDESC:Eventos para Muhadinkishev
BEGIN:VTIMEZONE
TZID:Europe/Moscow
BEGIN:STANDARD
TZOFFSETFROM:+0300
TZOFFSETTO:+0300
TZNAME:MSK
DTSTART:20150101T000000
END:STANDARD
END:VTIMEZONE
BEGIN:VEVENT
DTSTART;TZID=Europe/Moscow:20150109T190000
DTEND;TZID=Europe/Moscow:20150201T190000
DTSTAMP:20260423T052743
CREATED:20191024T135702Z
LAST-MODIFIED:20191024T135828Z
UID:15493-1420830000-1422817200@muhadinkishev.com
SUMMARY:Un canto a la belleza
DESCRIPTION:En esta exposición de unas 50 pinturas vemos cuadros que hablan de la belleza de Andalucía\, Rusia y el Cáucaso\, de donde viene el autor.
URL:https://muhadinkishev.com/es/event/un-canto-a-la-belleza/
LOCATION:El corte inglés callao\, Espacio de las artes\, entrada desde calle carmen. Séptimo piso\, Madrid\, España
END:VEVENT
END:VCALENDAR