BEGIN:VCALENDAR
VERSION:2.0
PRODID:-//Muhadinkishev - ECPv5.6.0//NONSGML v1.0//EN
CALSCALE:GREGORIAN
METHOD:PUBLISH
X-WR-CALNAME:Muhadinkishev
X-ORIGINAL-URL:https://muhadinkishev.com
X-WR-CALDESC:События для Muhadinkishev
BEGIN:VTIMEZONE
TZID:Europe/Moscow
BEGIN:STANDARD
TZOFFSETFROM:+0300
TZOFFSETTO:+0300
TZNAME:MSK
DTSTART:20200101T000000
END:STANDARD
END:VTIMEZONE
BEGIN:VEVENT
DTSTART;VALUE=DATE:20200310
DTEND;VALUE=DATE:20200313
DTSTAMP:20260423T035954
CREATED:20200211T090412Z
LAST-MODIFIED:20200302T124047Z
UID:17315-1583798400-1584057599@muhadinkishev.com
SUMMARY:Дружба народов мира «Кавказ-жемчужина России» в Париже
DESCRIPTION:Дружба народов мира «Кавказ-жемчужина России» в Париже с круглым столом в ЮНЕСКО\, а также с выставкой посвященной черкесам в Российском Духовном Культурном Центре в Париже.
URL:https://muhadinkishev.com/event/druzhba-narodov-mira-kavkaz-zhemchuzhina-rossii-v-parizhe/
CATEGORIES:Выставки
END:VEVENT
END:VCALENDAR