BEGIN:VCALENDAR
VERSION:2.0
PRODID:-//Muhadinkishev - ECPv5.6.0//NONSGML v1.0//EN
CALSCALE:GREGORIAN
METHOD:PUBLISH
X-WR-CALNAME:Muhadinkishev
X-ORIGINAL-URL:https://muhadinkishev.com
X-WR-CALDESC:События для Muhadinkishev
BEGIN:VTIMEZONE
TZID:Europe/Moscow
BEGIN:STANDARD
TZOFFSETFROM:+0300
TZOFFSETTO:+0300
TZNAME:MSK
DTSTART:20190101T000000
END:STANDARD
END:VTIMEZONE
BEGIN:VEVENT
DTSTART;TZID=Europe/Moscow:20191103T160000
DTEND;TZID=Europe/Moscow:20191103T190000
DTSTAMP:20260423T040113
CREATED:20191102T095016Z
LAST-MODIFIED:20200124T100026Z
UID:17028-1572796800-1572807600@muhadinkishev.com
SUMMARY:Персональная выставка Мухадина Кишева приуроченная к 80-летию художника и 60-летию его творческой деятельности
DESCRIPTION:В Нальчике\, в Кабардино-Балкарском музее изобразительных искусств имени А.Л. Ткаченко\, 03.11.2019 года пройдет персональная выставка Мухадина Кишева. Открытие выставки состоится в 17:00. Открытию выставки будет предшествовать пресс-конференция\, которая начнется в 16:00. На открытии выставки ожидается много гостей\, в том числе и из-за рубежа\, и поклонников таланта художника. На выставке будут представлены работы разных направлений и из разных периодов творчества художника. Жителя и гости города смогут посетить выставку до ….
URL:https://muhadinkishev.com/event/personalnaja-vystavka-muhadina-kisheva-priurochennaja-k-80-letiju-hudozhnika-i-60-letiju-ego-tvorcheskoj-dejatelnosti/
LOCATION:Кабардино-Балкарский музей изобразительных искусств имени А.Л. Ткаченко\, ул. просп. Ленина\, 35\, Нальчик\, Кабардино-Балкарская Республика\, 360051\, Российская Федерация
CATEGORIES:Выставки
END:VEVENT
END:VCALENDAR