BEGIN:VCALENDAR
VERSION:2.0
PRODID:-//Muhadinkishev - ECPv5.6.0//NONSGML v1.0//EN
CALSCALE:GREGORIAN
METHOD:PUBLISH
X-WR-CALNAME:Muhadinkishev
X-ORIGINAL-URL:https://muhadinkishev.com
X-WR-CALDESC:События для Muhadinkishev
BEGIN:VTIMEZONE
TZID:Europe/Moscow
BEGIN:STANDARD
TZOFFSETFROM:+0300
TZOFFSETTO:+0300
TZNAME:MSK
DTSTART:20150101T000000
END:STANDARD
END:VTIMEZONE
BEGIN:VEVENT
DTSTART;TZID=Europe/Moscow:20150109T190000
DTEND;TZID=Europe/Moscow:20150201T190000
DTSTAMP:20260423T035505
CREATED:20191024T135702Z
LAST-MODIFIED:20191024T135828Z
UID:15493-1420830000-1422817200@muhadinkishev.com
SUMMARY:Персональная выставка Мухадина Кишева "Гимн красоте"
DESCRIPTION:В Испании\, в городе Марбелле идет персональная выставка Мухадина Кишева. На выставке представлены 50 больших и маленьких картин на темы родная Кабардино-Балкария\, Россия и Андалусия\, сделанные на холсте\, картоне и бумаге.
URL:https://muhadinkishev.com/event/un-canto-a-la-belleza/
LOCATION:Английский вырезать кальяо\, Пространство искусств\, вход из Калле Кармен. 7 этаж\, Мадрид\, Российская Федерация
END:VEVENT
END:VCALENDAR